BEGIN:VCALENDAR
VERSION:2.0
PRODID:concerti//https://www.concerti.de
CALSCALE:GREGORIAN
BEGIN:VTIMEZONE
TZID:Europe/Berlin
X-LIC-LOCATION:Europe/Berlin
BEGIN:DAYLIGHT
TZOFFSETFROM:+0100
TZOFFSETTO:+0200
TZNAME:CEST
DTSTART:19700329T020000
RRULE:FREQ=YEARLY;BYMONTH=3;BYDAY=-1SU
END:DAYLIGHT
BEGIN:STANDARD
TZOFFSETFROM:+0200
TZOFFSETTO:+0100
TZNAME:CET
DTSTART:19701025T030000
RRULE:FREQ=YEARLY;BYMONTH=10;BYDAY=-1SU
END:STANDARD
END:VTIMEZONE
BEGIN:VEVENT
UID:43dbdeb61b5b1920b97d002f5ed74bcb
SUMMARY:Puccini: Manon Lescaut
URL:https://www.concerti.de/termine/puccini-manon-lescaut-opernhaus-zuerich-562559/
DTSTART;TZID=Europe/Berlin:20261211T190000
DTEND;TZID=Europe/Berlin:20261211T210000
DESCRIPTION:Interpreten: Sonya Yoncheva (Manon Lescaut)\, Lauri Vasar (Lescaut)\, Joshua Guerrero (Il cavaliere Des Grieux)\, Shavleg Armasi (Geronte di Ravoir)\, Daniel Norman (Edmondo)\, Marcela Rahal (un musico)\, Salvador Villanueva (Il maestro di ballo)\, Samuel Wallace (Ninetta)\, Francesco Ivan Ciampa (Leitung)\, Barrie Kosky (Regie) \nhttps://www.concerti.de/termine/puccini-manon-lescaut-opernhaus-zuerich-562559/
LOCATION:Opernhaus Zürich\, Falkenstrasse 1\, 8008 Zürich
END:VEVENT
END:VCALENDAR