BEGIN:VCALENDAR
VERSION:2.0
PRODID:concerti//https://www.concerti.de
CALSCALE:GREGORIAN
BEGIN:VTIMEZONE
TZID:Europe/Berlin
X-LIC-LOCATION:Europe/Berlin
BEGIN:DAYLIGHT
TZOFFSETFROM:+0100
TZOFFSETTO:+0200
TZNAME:CEST
DTSTART:19700329T020000
RRULE:FREQ=YEARLY;BYMONTH=3;BYDAY=-1SU
END:DAYLIGHT
BEGIN:STANDARD
TZOFFSETFROM:+0200
TZOFFSETTO:+0100
TZNAME:CET
DTSTART:19701025T030000
RRULE:FREQ=YEARLY;BYMONTH=10;BYDAY=-1SU
END:STANDARD
END:VTIMEZONE
BEGIN:VEVENT
UID:d1f6c6601f3f242b155aaf36228e4aee
SUMMARY:Leevke Hinrichs (Flöte), Andreas Stöger (Cembalo), Main-Barockorchester Frankfurt, Martin Jopp (Violine &amp; Leitung)
URL:https://www.concerti.de/termine/leevke-hinrichs-floete-andreas-stoeger-cembalo-main-barockorchester-frankfurt-martin-jopp-violine-leitung-889086/
DTSTART;TZID=Europe/Berlin:20260605T200000
DTEND;TZID=Europe/Berlin:20260605T220000
DESCRIPTION:Interpreten: Leevke Hinrichs (Flöte)\, Andreas Stöger (Cembalo)\, Main-Barockorchester Frankfurt\, Martin Jopp (Violine & Leitung) \nProgramm: Werke von Telemann\, Rolle\, C. P. E. Bach & J. S. Bach \nhttps://www.concerti.de/termine/leevke-hinrichs-floete-andreas-stoeger-cembalo-main-barockorchester-frankfurt-martin-jopp-violine-leitung-889086/
LOCATION:Johanneskirche\, Gießen
END:VEVENT
END:VCALENDAR