BEGIN:VCALENDAR
VERSION:2.0
PRODID:concerti//https://www.concerti.de
CALSCALE:GREGORIAN
BEGIN:VTIMEZONE
TZID:Europe/Berlin
X-LIC-LOCATION:Europe/Berlin
BEGIN:DAYLIGHT
TZOFFSETFROM:+0100
TZOFFSETTO:+0200
TZNAME:CEST
DTSTART:19700329T020000
RRULE:FREQ=YEARLY;BYMONTH=3;BYDAY=-1SU
END:DAYLIGHT
BEGIN:STANDARD
TZOFFSETFROM:+0200
TZOFFSETTO:+0100
TZNAME:CET
DTSTART:19701025T030000
RRULE:FREQ=YEARLY;BYMONTH=10;BYDAY=-1SU
END:STANDARD
END:VTIMEZONE
BEGIN:VEVENT
UID:551f16b86c5ab8143bf8b604e24a7656
SUMMARY:Fabrik Quartet - Voraushören
URL:https://www.concerti.de/termine/fabrik-quartet-holzhausenschloesschen-889097/
DTSTART;TZID=Europe/Berlin:20260610T193000
DTEND;TZID=Europe/Berlin:20260610T213000
DESCRIPTION:Interpreten: Fabrik Quartet \nProgramm: Paxton: Florridhorrid\, Gander: Khul\, Dillon: Streichquartett Nr. 5\, Djordjevic: The Death of the Star-Knower I & II \nhttps://www.concerti.de/termine/fabrik-quartet-holzhausenschloesschen-889097/
LOCATION:Holzhausenschlösschen\, Justinianstraße 5\, 60322 Frankfurt (Main)
END:VEVENT
END:VCALENDAR