BEGIN:VCALENDAR
VERSION:2.0
PRODID:concerti//https://www.concerti.de
CALSCALE:GREGORIAN
BEGIN:VTIMEZONE
TZID:Europe/Berlin
X-LIC-LOCATION:Europe/Berlin
BEGIN:DAYLIGHT
TZOFFSETFROM:+0100
TZOFFSETTO:+0200
TZNAME:CEST
DTSTART:19700329T020000
RRULE:FREQ=YEARLY;BYMONTH=3;BYDAY=-1SU
END:DAYLIGHT
BEGIN:STANDARD
TZOFFSETFROM:+0200
TZOFFSETTO:+0100
TZNAME:CET
DTSTART:19701025T030000
RRULE:FREQ=YEARLY;BYMONTH=10;BYDAY=-1SU
END:STANDARD
END:VTIMEZONE
BEGIN:VEVENT
UID:a16d83e35a6a59ce1c618c8e2c08b365
SUMMARY:Vilde Frang (Violine), hr-Sinfonieorchester, Alain Altinoglu (Leitung)
URL:https://www.concerti.de/termine/vilde-frang-violine-hr-sinfonieorchester-alain-altinoglu-leitung-alte-oper-frankfurt-698084/
DTSTART;TZID=Europe/Berlin:20260612T200000
DTEND;TZID=Europe/Berlin:20260612T220000
DESCRIPTION:Interpreten: Vilde Frang (Violine)\, hr-Sinfonieorchester\, Alain Altinoglu (Leitung) \nProgramm: Bartók: Violinkonzert Nr. 2\, Brahms: Sinfonie Nr. 4 e-Moll op. 98 \nhttps://www.concerti.de/termine/vilde-frang-violine-hr-sinfonieorchester-alain-altinoglu-leitung-alte-oper-frankfurt-698084/
LOCATION:Alte Oper Frankfurt\, Opernplatz 1\, 60313 Frankfurt (Main)
END:VEVENT
END:VCALENDAR