BEGIN:VCALENDAR
VERSION:2.0
PRODID:concerti//https://www.concerti.de
CALSCALE:GREGORIAN
BEGIN:VTIMEZONE
TZID:Europe/Berlin
X-LIC-LOCATION:Europe/Berlin
BEGIN:DAYLIGHT
TZOFFSETFROM:+0100
TZOFFSETTO:+0200
TZNAME:CEST
DTSTART:19700329T020000
RRULE:FREQ=YEARLY;BYMONTH=3;BYDAY=-1SU
END:DAYLIGHT
BEGIN:STANDARD
TZOFFSETFROM:+0200
TZOFFSETTO:+0100
TZNAME:CET
DTSTART:19701025T030000
RRULE:FREQ=YEARLY;BYMONTH=10;BYDAY=-1SU
END:STANDARD
END:VTIMEZONE
BEGIN:VEVENT
UID:1976ab7bf297ee9ab452892fdb433ba4
SUMMARY:Judith Jakob (vocals), Viviane Essig (vocals), Henrik Wager (vocals) &amp; Nigel Casey (vocals), Neue Philharmonie Westfalen, Rasmus Baumann (Leitung), Carsten Kirchmeier (Moderation) - Rheingau Musik Festival
URL:https://www.concerti.de/termine/judith-jakob-vocals-viviane-essig-vocals-henrik-wager-vocals-nigel-casey-vocals-neue-philharmonie-westfalen-rasmus-baumann-leitung-carsten-kirchmeier-moderation-schloss-johannisberg-889132/
DTSTART;TZID=Europe/Berlin:20260625T193000
DTEND;TZID=Europe/Berlin:20260625T213000
DESCRIPTION:Interpreten: Judith Jakob (vocals)\, Viviane Essig (vocals)\, Henrik Wager (vocals) & Nigel Casey (vocals)\, Neue Philharmonie Westfalen\, Rasmus Baumann (Leitung)\, Carsten Kirchmeier (Moderation) \nProgramm: Werke von ABBA \nhttps://www.concerti.de/termine/judith-jakob-vocals-viviane-essig-vocals-henrik-wager-vocals-nigel-casey-vocals-neue-philharmonie-westfalen-rasmus-baumann-leitung-carsten-kirchmeier-moderation-schloss-johannisberg-889132/
LOCATION:Schloss Johannisberg\, \, 65366 Geisenheim-Johannisberg
END:VEVENT
END:VCALENDAR