BEGIN:VCALENDAR
VERSION:2.0
PRODID:concerti//https://www.concerti.de
CALSCALE:GREGORIAN
BEGIN:VTIMEZONE
TZID:Europe/Berlin
X-LIC-LOCATION:Europe/Berlin
BEGIN:DAYLIGHT
TZOFFSETFROM:+0100
TZOFFSETTO:+0200
TZNAME:CEST
DTSTART:19700329T020000
RRULE:FREQ=YEARLY;BYMONTH=3;BYDAY=-1SU
END:DAYLIGHT
BEGIN:STANDARD
TZOFFSETFROM:+0200
TZOFFSETTO:+0100
TZNAME:CET
DTSTART:19701025T030000
RRULE:FREQ=YEARLY;BYMONTH=10;BYDAY=-1SU
END:STANDARD
END:VTIMEZONE
BEGIN:VEVENT
UID:c4c3082ea23f1b27ab9d2030778df1ea
SUMMARY:Fabian Müller (Klavier) - Rheingau Musik Festival
URL:https://www.concerti.de/termine/fabian-mueller-klavier-889135/
DTSTART;TZID=Europe/Berlin:20260625T193000
DTEND;TZID=Europe/Berlin:20260625T213000
DESCRIPTION:Interpreten: Fabian Müller (Klavier) \nProgramm: Brahms: Intermezzi op. 118 & Klaviersonate Nr. 3 f-Moll op. 5\, Schumann: Kinderszenen op. 15 \nhttps://www.concerti.de/termine/fabian-mueller-klavier-889135/
LOCATION:Kloster Eberbach\, Eltville
END:VEVENT
END:VCALENDAR