BEGIN:VCALENDAR
VERSION:2.0
PRODID:concerti//https://www.concerti.de
CALSCALE:GREGORIAN
BEGIN:VTIMEZONE
TZID:Europe/Berlin
X-LIC-LOCATION:Europe/Berlin
BEGIN:DAYLIGHT
TZOFFSETFROM:+0100
TZOFFSETTO:+0200
TZNAME:CEST
DTSTART:19700329T020000
RRULE:FREQ=YEARLY;BYMONTH=3;BYDAY=-1SU
END:DAYLIGHT
BEGIN:STANDARD
TZOFFSETFROM:+0200
TZOFFSETTO:+0100
TZNAME:CET
DTSTART:19701025T030000
RRULE:FREQ=YEARLY;BYMONTH=10;BYDAY=-1SU
END:STANDARD
END:VTIMEZONE
BEGIN:VEVENT
UID:732e719293ae59d2c2e35ad21771362b
SUMMARY:Guido Sant’Anna (Violine), Plínio Fernandes (Gitarre) - Rheingau Musik Festival
URL:https://www.concerti.de/termine/guido-santanna-violine-plinio-fernandes-gitarre-schloss-johannisberg-889155/
DTSTART;TZID=Europe/Berlin:20260701T190000
DTEND;TZID=Europe/Berlin:20260701T210000
DESCRIPTION:Interpreten: Guido Sant’Anna (Violine)\, Plínio Fernandes (Gitarre) \nhttps://www.concerti.de/termine/guido-santanna-violine-plinio-fernandes-gitarre-schloss-johannisberg-889155/
LOCATION:Schloss Johannisberg\, \, 65366 Geisenheim-Johannisberg
END:VEVENT
END:VCALENDAR