BEGIN:VCALENDAR
VERSION:2.0
PRODID:concerti//https://www.concerti.de
CALSCALE:GREGORIAN
BEGIN:VTIMEZONE
TZID:Europe/Berlin
X-LIC-LOCATION:Europe/Berlin
BEGIN:DAYLIGHT
TZOFFSETFROM:+0100
TZOFFSETTO:+0200
TZNAME:CEST
DTSTART:19700329T020000
RRULE:FREQ=YEARLY;BYMONTH=3;BYDAY=-1SU
END:DAYLIGHT
BEGIN:STANDARD
TZOFFSETFROM:+0200
TZOFFSETTO:+0100
TZNAME:CET
DTSTART:19701025T030000
RRULE:FREQ=YEARLY;BYMONTH=10;BYDAY=-1SU
END:STANDARD
END:VTIMEZONE
BEGIN:VEVENT
UID:2d18e51f5d9df818229044429127df86
SUMMARY:Mendelssohn: Paulus op. 36 - Rheingau Musik Festival
URL:https://www.concerti.de/termine/mendelssohn-paulus-op-36-889164/
DTSTART;TZID=Europe/Berlin:20260703T193000
DTEND;TZID=Europe/Berlin:20260703T213000
DESCRIPTION:Interpreten: Kathrin Lorenzen (Sopran)\, Florian Sievers (Tenor)\, Arttu Kataja (Bass)\, Kammerchor Stuttgart\, Klassische Philharmonie Stuttgart\, Frieder Bernius (Leitung) \nhttps://www.concerti.de/termine/mendelssohn-paulus-op-36-889164/
LOCATION:Kloster Eberbach\, Eltville
END:VEVENT
END:VCALENDAR