BEGIN:VCALENDAR
VERSION:2.0
PRODID:concerti//https://www.concerti.de
CALSCALE:GREGORIAN
BEGIN:VTIMEZONE
TZID:Europe/Berlin
X-LIC-LOCATION:Europe/Berlin
BEGIN:DAYLIGHT
TZOFFSETFROM:+0100
TZOFFSETTO:+0200
TZNAME:CEST
DTSTART:19700329T020000
RRULE:FREQ=YEARLY;BYMONTH=3;BYDAY=-1SU
END:DAYLIGHT
BEGIN:STANDARD
TZOFFSETFROM:+0200
TZOFFSETTO:+0100
TZNAME:CET
DTSTART:19701025T030000
RRULE:FREQ=YEARLY;BYMONTH=10;BYDAY=-1SU
END:STANDARD
END:VTIMEZONE
BEGIN:VEVENT
UID:abe0c5ba429af94ac59ffdb50d0a84d9
SUMMARY:Mozart-Nacht - Rheingau Musik Festival
URL:https://www.concerti.de/termine/mozart-nacht-889175/
DTSTART;TZID=Europe/Berlin:20260705T180000
DTEND;TZID=Europe/Berlin:20260705T200000
DESCRIPTION:Interpreten: Leia Zhu (Violine)\, Wassili Wohlgemuth (Viola)\, Robert Neumann (Klavier)\, Festival Strings Lucerne\, Fibonacci Quartet\, Ensemble Prisma\, Daniel Dodds (Violine & Leitung) \nProgramm: Mozart: Ouvertüre zu Lucio Silla KV 135\, Sinfonia concertante Es-Dur KV 364\, Sinfonie C-Dur KV 551 „Jupiter“\, Smyth: Sinfonie für kleines Orchester \nhttps://www.concerti.de/termine/mozart-nacht-889175/
LOCATION:Kloster Eberbach\, Eltville
END:VEVENT
END:VCALENDAR