BEGIN:VCALENDAR
VERSION:2.0
PRODID:concerti//https://www.concerti.de
CALSCALE:GREGORIAN
BEGIN:VTIMEZONE
TZID:Europe/Berlin
X-LIC-LOCATION:Europe/Berlin
BEGIN:DAYLIGHT
TZOFFSETFROM:+0100
TZOFFSETTO:+0200
TZNAME:CEST
DTSTART:19700329T020000
RRULE:FREQ=YEARLY;BYMONTH=3;BYDAY=-1SU
END:DAYLIGHT
BEGIN:STANDARD
TZOFFSETFROM:+0200
TZOFFSETTO:+0100
TZNAME:CET
DTSTART:19701025T030000
RRULE:FREQ=YEARLY;BYMONTH=10;BYDAY=-1SU
END:STANDARD
END:VTIMEZONE
BEGIN:VEVENT
UID:2a4840073415922416ae83403c466c43
SUMMARY:Ulrich Michael Heissig (vocals), Clemens Maria Kitschen (Klavier) - Rheingau Musik Festival
URL:https://www.concerti.de/termine/ulrich-michael-heissig-vocals-clemens-maria-kitschen-klavier-889179/
DTSTART;TZID=Europe/Berlin:20260705T190000
DTEND;TZID=Europe/Berlin:20260705T210000
DESCRIPTION:Interpreten: Ulrich Michael Heissig (vocals)\, Clemens Maria Kitschen (Klavier) \nProgramm: Werke von Knef \nhttps://www.concerti.de/termine/ulrich-michael-heissig-vocals-clemens-maria-kitschen-klavier-889179/
LOCATION:Weingut Diefenhardt\, Eltville
END:VEVENT
END:VCALENDAR