BEGIN:VCALENDAR
VERSION:2.0
PRODID:concerti//https://www.concerti.de
CALSCALE:GREGORIAN
BEGIN:VTIMEZONE
TZID:Europe/Berlin
X-LIC-LOCATION:Europe/Berlin
BEGIN:DAYLIGHT
TZOFFSETFROM:+0100
TZOFFSETTO:+0200
TZNAME:CEST
DTSTART:19700329T020000
RRULE:FREQ=YEARLY;BYMONTH=3;BYDAY=-1SU
END:DAYLIGHT
BEGIN:STANDARD
TZOFFSETFROM:+0200
TZOFFSETTO:+0100
TZNAME:CET
DTSTART:19701025T030000
RRULE:FREQ=YEARLY;BYMONTH=10;BYDAY=-1SU
END:STANDARD
END:VTIMEZONE
BEGIN:VEVENT
UID:636d891e953380aeb47cb36ef2807760
SUMMARY:Nabil Shehata (Kontrabass), Fauré Quartett - Rheingau Musik Festival
URL:https://www.concerti.de/termine/nabil-shehata-kontrabass-faure-quartett-schloss-johannisberg-889194/
DTSTART;TZID=Europe/Berlin:20260705T190000
DTEND;TZID=Europe/Berlin:20260705T210000
DESCRIPTION:Interpreten: Nabil Shehata (Kontrabass)\, Fauré Quartett \nProgramm: Schubert: Adagio und Rondo Concertante F-Dur D 487 & Klavierquintett A-Dur D 667 „Forellen“\, Schumann: Klavierquartett Es-Dur op. 47 \nhttps://www.concerti.de/termine/nabil-shehata-kontrabass-faure-quartett-schloss-johannisberg-889194/
LOCATION:Schloss Johannisberg\, \, 65366 Geisenheim-Johannisberg
END:VEVENT
END:VCALENDAR