BEGIN:VCALENDAR
VERSION:2.0
PRODID:concerti//https://www.concerti.de
CALSCALE:GREGORIAN
BEGIN:VTIMEZONE
TZID:Europe/Berlin
X-LIC-LOCATION:Europe/Berlin
BEGIN:DAYLIGHT
TZOFFSETFROM:+0100
TZOFFSETTO:+0200
TZNAME:CEST
DTSTART:19700329T020000
RRULE:FREQ=YEARLY;BYMONTH=3;BYDAY=-1SU
END:DAYLIGHT
BEGIN:STANDARD
TZOFFSETFROM:+0200
TZOFFSETTO:+0100
TZNAME:CET
DTSTART:19701025T030000
RRULE:FREQ=YEARLY;BYMONTH=10;BYDAY=-1SU
END:STANDARD
END:VTIMEZONE
BEGIN:VEVENT
UID:5ff26ec9b4cdd19f6516975613b8b776
SUMMARY:Nils Landgren (vocals &amp; trombone), Ida Sand (vocals &amp; piano), Ilja Ruf (piano), Caris Hermes (bass), Eva Klesse (drums) - Rheingau Musik Festival
URL:https://www.concerti.de/termine/nils-landgren-vocals-trombone-ida-sand-vocals-piano-ilja-ruf-piano-caris-hermes-bass-eva-klesse-drums-889197/
DTSTART;TZID=Europe/Berlin:20260707T190000
DTEND;TZID=Europe/Berlin:20260707T210000
DESCRIPTION:Interpreten: Nils Landgren (vocals & trombone)\, Ida Sand (vocals & piano)\, Ilja Ruf (piano)\, Caris Hermes (bass)\, Eva Klesse (drums) \nhttps://www.concerti.de/termine/nils-landgren-vocals-trombone-ida-sand-vocals-piano-ilja-ruf-piano-caris-hermes-bass-eva-klesse-drums-889197/
LOCATION:Schloss Vollrads\, Oestrich-Winkel
END:VEVENT
END:VCALENDAR