BEGIN:VCALENDAR
VERSION:2.0
PRODID:concerti//https://www.concerti.de
CALSCALE:GREGORIAN
BEGIN:VTIMEZONE
TZID:Europe/Berlin
X-LIC-LOCATION:Europe/Berlin
BEGIN:DAYLIGHT
TZOFFSETFROM:+0100
TZOFFSETTO:+0200
TZNAME:CEST
DTSTART:19700329T020000
RRULE:FREQ=YEARLY;BYMONTH=3;BYDAY=-1SU
END:DAYLIGHT
BEGIN:STANDARD
TZOFFSETFROM:+0200
TZOFFSETTO:+0100
TZNAME:CET
DTSTART:19701025T030000
RRULE:FREQ=YEARLY;BYMONTH=10;BYDAY=-1SU
END:STANDARD
END:VTIMEZONE
BEGIN:VEVENT
UID:7aa358770f9264f3064b58f08da5e44a
SUMMARY:Dana Masters (vocals), Annie and the Caldwells - Rheingau Musik Festival
URL:https://www.concerti.de/termine/dana-masters-vocals-annie-and-the-caldwells-889212/
DTSTART;TZID=Europe/Berlin:20260709T190000
DTEND;TZID=Europe/Berlin:20260709T210000
DESCRIPTION:Interpreten: Dana Masters (vocals)\, Annie and the Caldwells \nhttps://www.concerti.de/termine/dana-masters-vocals-annie-and-the-caldwells-889212/
LOCATION:Schloss Vollrads\, Oestrich-Winkel
END:VEVENT
END:VCALENDAR