BEGIN:VCALENDAR
VERSION:2.0
PRODID:concerti//https://www.concerti.de
CALSCALE:GREGORIAN
BEGIN:VTIMEZONE
TZID:Europe/Berlin
X-LIC-LOCATION:Europe/Berlin
BEGIN:DAYLIGHT
TZOFFSETFROM:+0100
TZOFFSETTO:+0200
TZNAME:CEST
DTSTART:19700329T020000
RRULE:FREQ=YEARLY;BYMONTH=3;BYDAY=-1SU
END:DAYLIGHT
BEGIN:STANDARD
TZOFFSETFROM:+0200
TZOFFSETTO:+0100
TZNAME:CET
DTSTART:19701025T030000
RRULE:FREQ=YEARLY;BYMONTH=10;BYDAY=-1SU
END:STANDARD
END:VTIMEZONE
BEGIN:VEVENT
UID:578c009efaf614af604a9d2e220d6f67
SUMMARY:Serge Schonckert (vocals), Marielle Kaufmann (vocals), Carole Mallinger-Leyers (vocals), Claude Kraus (vocals), Luxembourg Jazz Orchestra, Ernie Hammes (Leitung) - Rheingau Musik Festival
URL:https://www.concerti.de/termine/serge-schonckert-vocals-marielle-kaufmann-vocals-carole-mallinger-leyers-vocals-claude-kraus-vocals-luxembourg-jazz-orchestra-ernie-hammes-leitung-889221/
DTSTART;TZID=Europe/Berlin:20260710T190000
DTEND;TZID=Europe/Berlin:20260710T210000
DESCRIPTION:Interpreten: Serge Schonckert (vocals)\, Marielle Kaufmann (vocals)\, Carole Mallinger-Leyers (vocals)\, Claude Kraus (vocals)\, Luxembourg Jazz Orchestra\, Ernie Hammes (Leitung) \nProgramm: Werke von Queen \nhttps://www.concerti.de/termine/serge-schonckert-vocals-marielle-kaufmann-vocals-carole-mallinger-leyers-vocals-claude-kraus-vocals-luxembourg-jazz-orchestra-ernie-hammes-leitung-889221/
LOCATION:Schloss Vollrads\, Oestrich-Winkel
END:VEVENT
END:VCALENDAR