BEGIN:VCALENDAR
VERSION:2.0
PRODID:concerti//https://www.concerti.de
CALSCALE:GREGORIAN
BEGIN:VTIMEZONE
TZID:Europe/Berlin
X-LIC-LOCATION:Europe/Berlin
BEGIN:DAYLIGHT
TZOFFSETFROM:+0100
TZOFFSETTO:+0200
TZNAME:CEST
DTSTART:19700329T020000
RRULE:FREQ=YEARLY;BYMONTH=3;BYDAY=-1SU
END:DAYLIGHT
BEGIN:STANDARD
TZOFFSETFROM:+0200
TZOFFSETTO:+0100
TZNAME:CET
DTSTART:19701025T030000
RRULE:FREQ=YEARLY;BYMONTH=10;BYDAY=-1SU
END:STANDARD
END:VTIMEZONE
BEGIN:VEVENT
UID:5e46b82d959a4dec7668952cc5048754
SUMMARY:J. S. Bach: Goldberg-Variationen BWV 988 - Rheingau Musik Festival
URL:https://www.concerti.de/termine/j-s-bach-goldberg-variationen-bwv-988-theater-ruesselsheim-889224/
DTSTART;TZID=Europe/Berlin:20260710T193000
DTEND;TZID=Europe/Berlin:20260710T213000
DESCRIPTION:Interpreten: Scottish Ensemble\, Andersson Dance\, Jonathan Morton (Leitung)\, Örjan Andersson (Choreographie) \nhttps://www.concerti.de/termine/j-s-bach-goldberg-variationen-bwv-988-theater-ruesselsheim-889224/
LOCATION:Theater Rüsselsheim\, Am Treff 7\, 65428 Rüsselsheim
END:VEVENT
END:VCALENDAR