BEGIN:VCALENDAR
VERSION:2.0
PRODID:concerti//https://www.concerti.de
CALSCALE:GREGORIAN
BEGIN:VTIMEZONE
TZID:Europe/Berlin
X-LIC-LOCATION:Europe/Berlin
BEGIN:DAYLIGHT
TZOFFSETFROM:+0100
TZOFFSETTO:+0200
TZNAME:CEST
DTSTART:19700329T020000
RRULE:FREQ=YEARLY;BYMONTH=3;BYDAY=-1SU
END:DAYLIGHT
BEGIN:STANDARD
TZOFFSETFROM:+0200
TZOFFSETTO:+0100
TZNAME:CET
DTSTART:19701025T030000
RRULE:FREQ=YEARLY;BYMONTH=10;BYDAY=-1SU
END:STANDARD
END:VTIMEZONE
BEGIN:VEVENT
UID:292a8f97becc8fb5184324b913c252c3
SUMMARY:Lukas Sternath (Klavier), Bamberger Symphoniker, Jakub Hrůša (Leitung) - Rheingau Musik Festival
URL:https://www.concerti.de/termine/lukas-sternath-klavier-bamberger-symphoniker-jakub-hrusa-leitung-kurhaus-wiesbaden-889227/
DTSTART;TZID=Europe/Berlin:20260710T193000
DTEND;TZID=Europe/Berlin:20260710T213000
DESCRIPTION:Interpreten: Lukas Sternath (Klavier)\, Bamberger Symphoniker\, Jakub Hrůša (Leitung) \nProgramm: Brahms: Klavierkonzert Nr. 2 B-Dur op. 83 & Sinfonie Nr. 3 F-Dur op. 90 \nhttps://www.concerti.de/termine/lukas-sternath-klavier-bamberger-symphoniker-jakub-hrusa-leitung-kurhaus-wiesbaden-889227/
LOCATION:Kurhaus Wiesbaden\, Kurhausplatz 1\, 65189 Wiesbaden
END:VEVENT
END:VCALENDAR