BEGIN:VCALENDAR
VERSION:2.0
PRODID:concerti//https://www.concerti.de
CALSCALE:GREGORIAN
BEGIN:VTIMEZONE
TZID:Europe/Berlin
X-LIC-LOCATION:Europe/Berlin
BEGIN:DAYLIGHT
TZOFFSETFROM:+0100
TZOFFSETTO:+0200
TZNAME:CEST
DTSTART:19700329T020000
RRULE:FREQ=YEARLY;BYMONTH=3;BYDAY=-1SU
END:DAYLIGHT
BEGIN:STANDARD
TZOFFSETFROM:+0200
TZOFFSETTO:+0100
TZNAME:CET
DTSTART:19701025T030000
RRULE:FREQ=YEARLY;BYMONTH=10;BYDAY=-1SU
END:STANDARD
END:VTIMEZONE
BEGIN:VEVENT
UID:6f905a2859e3dad34c908cd60243de10
SUMMARY:Klassik meets India - Rheingau Musik Festival
URL:https://www.concerti.de/termine/klassik-meets-india-889236/
DTSTART;TZID=Europe/Berlin:20260712T190000
DTEND;TZID=Europe/Berlin:20260712T210000
DESCRIPTION:Interpreten: Jasdeep Singh Degun (Sitar)\, Harkiret Singh Bahra (Tabla)\, Scottish Ensemble \nhttps://www.concerti.de/termine/klassik-meets-india-889236/
LOCATION:Kloster Eberbach\, Eltville
END:VEVENT
END:VCALENDAR