BEGIN:VCALENDAR
VERSION:2.0
PRODID:concerti//https://www.concerti.de
CALSCALE:GREGORIAN
BEGIN:VTIMEZONE
TZID:Europe/Berlin
X-LIC-LOCATION:Europe/Berlin
BEGIN:DAYLIGHT
TZOFFSETFROM:+0100
TZOFFSETTO:+0200
TZNAME:CEST
DTSTART:19700329T020000
RRULE:FREQ=YEARLY;BYMONTH=3;BYDAY=-1SU
END:DAYLIGHT
BEGIN:STANDARD
TZOFFSETFROM:+0200
TZOFFSETTO:+0100
TZNAME:CET
DTSTART:19701025T030000
RRULE:FREQ=YEARLY;BYMONTH=10;BYDAY=-1SU
END:STANDARD
END:VTIMEZONE
BEGIN:VEVENT
UID:e68fb4eb657ba4edee47947ed29f10ed
SUMMARY:Tenebrae Choir, Nigel Short (Leitung) - Rheingau Musik Festival
URL:https://www.concerti.de/termine/tenebrae-choir-nigel-short-leitung-889248/
DTSTART;TZID=Europe/Berlin:20260717T193000
DTEND;TZID=Europe/Berlin:20260717T213000
DESCRIPTION:Interpreten: Tenebrae Choir\, Nigel Short (Leitung) \nProgramm: Werke von Pärt\, Tavener & MacMillan \nhttps://www.concerti.de/termine/tenebrae-choir-nigel-short-leitung-889248/
LOCATION:Erlöserkirche\, Bad Homburg
END:VEVENT
END:VCALENDAR