BEGIN:VCALENDAR
VERSION:2.0
PRODID:concerti//https://www.concerti.de
CALSCALE:GREGORIAN
BEGIN:VTIMEZONE
TZID:Europe/Berlin
X-LIC-LOCATION:Europe/Berlin
BEGIN:DAYLIGHT
TZOFFSETFROM:+0100
TZOFFSETTO:+0200
TZNAME:CEST
DTSTART:19700329T020000
RRULE:FREQ=YEARLY;BYMONTH=3;BYDAY=-1SU
END:DAYLIGHT
BEGIN:STANDARD
TZOFFSETFROM:+0200
TZOFFSETTO:+0100
TZNAME:CET
DTSTART:19701025T030000
RRULE:FREQ=YEARLY;BYMONTH=10;BYDAY=-1SU
END:STANDARD
END:VTIMEZONE
BEGIN:VEVENT
UID:ff742b0e2405b614895dbdf4917747e5
SUMMARY:Jess Gillam Trio - Rheingau Musik Festival
URL:https://www.concerti.de/termine/jess-gillam-trio-schloss-johannisberg-889259/
DTSTART;TZID=Europe/Berlin:20260718T190000
DTEND;TZID=Europe/Berlin:20260718T210000
DESCRIPTION:Interpreten: Jess Gillam Trio \nProgramm: Werke von N. Boulanger\, Gershwin\, Corelli\, Babadjanian\, Howard & Bechet \nhttps://www.concerti.de/termine/jess-gillam-trio-schloss-johannisberg-889259/
LOCATION:Schloss Johannisberg\, \, 65366 Geisenheim-Johannisberg
END:VEVENT
END:VCALENDAR