BEGIN:VCALENDAR
VERSION:2.0
PRODID:concerti//https://www.concerti.de
CALSCALE:GREGORIAN
BEGIN:VTIMEZONE
TZID:Europe/Berlin
X-LIC-LOCATION:Europe/Berlin
BEGIN:DAYLIGHT
TZOFFSETFROM:+0100
TZOFFSETTO:+0200
TZNAME:CEST
DTSTART:19700329T020000
RRULE:FREQ=YEARLY;BYMONTH=3;BYDAY=-1SU
END:DAYLIGHT
BEGIN:STANDARD
TZOFFSETFROM:+0200
TZOFFSETTO:+0100
TZNAME:CET
DTSTART:19701025T030000
RRULE:FREQ=YEARLY;BYMONTH=10;BYDAY=-1SU
END:STANDARD
END:VTIMEZONE
BEGIN:VEVENT
UID:5918f09f472b9afb599b0d2b624802f1
SUMMARY:Britische Filmmusiknacht - Rheingau Musik Festival
URL:https://www.concerti.de/termine/britische-filmmusiknacht-889280/
DTSTART;TZID=Europe/Berlin:20260724T193000
DTEND;TZID=Europe/Berlin:20260724T213000
DESCRIPTION:Interpreten: Münchner Rundfunkorchester\, Joseph R. Olefirowicz (Leitung)\, Annekatrin Hentschel (Moderation) \nProgramm: Werke von Zimmer u. a. \nhttps://www.concerti.de/termine/britische-filmmusiknacht-889280/
LOCATION:Kurpark\, Wiesbaden
END:VEVENT
END:VCALENDAR