BEGIN:VCALENDAR
VERSION:2.0
PRODID:concerti//https://www.concerti.de
CALSCALE:GREGORIAN
BEGIN:VTIMEZONE
TZID:Europe/Berlin
X-LIC-LOCATION:Europe/Berlin
BEGIN:DAYLIGHT
TZOFFSETFROM:+0100
TZOFFSETTO:+0200
TZNAME:CEST
DTSTART:19700329T020000
RRULE:FREQ=YEARLY;BYMONTH=3;BYDAY=-1SU
END:DAYLIGHT
BEGIN:STANDARD
TZOFFSETFROM:+0200
TZOFFSETTO:+0100
TZNAME:CET
DTSTART:19701025T030000
RRULE:FREQ=YEARLY;BYMONTH=10;BYDAY=-1SU
END:STANDARD
END:VTIMEZONE
BEGIN:VEVENT
UID:599b7424d3838df8615715c03e615214
SUMMARY:Maxwell Quartet - Rheingau Musik Festival
URL:https://www.concerti.de/termine/maxwell-quartet-schloss-johannisberg-889296/
DTSTART;TZID=Europe/Berlin:20260730T190000
DTEND;TZID=Europe/Berlin:20260730T210000
DESCRIPTION:Interpreten: Maxwell Quartet \nProgramm: Haydn: Streichquartett D-Dur Hob. III:34\, Brahms: Streichquartett a-Moll op. 51/2 u. a. \nhttps://www.concerti.de/termine/maxwell-quartet-schloss-johannisberg-889296/
LOCATION:Schloss Johannisberg\, \, 65366 Geisenheim-Johannisberg
END:VEVENT
END:VCALENDAR