BEGIN:VCALENDAR
VERSION:2.0
PRODID:concerti//https://www.concerti.de
CALSCALE:GREGORIAN
BEGIN:VTIMEZONE
TZID:Europe/Berlin
X-LIC-LOCATION:Europe/Berlin
BEGIN:DAYLIGHT
TZOFFSETFROM:+0100
TZOFFSETTO:+0200
TZNAME:CEST
DTSTART:19700329T020000
RRULE:FREQ=YEARLY;BYMONTH=3;BYDAY=-1SU
END:DAYLIGHT
BEGIN:STANDARD
TZOFFSETFROM:+0200
TZOFFSETTO:+0100
TZNAME:CET
DTSTART:19701025T030000
RRULE:FREQ=YEARLY;BYMONTH=10;BYDAY=-1SU
END:STANDARD
END:VTIMEZONE
BEGIN:VEVENT
UID:30d6d548162179b29d3784ef4ce6b9d8
SUMMARY:The Sarahbanda, Sarah Willis (Horn &amp; Leitung) - Rheingau Musik Festival
URL:https://www.concerti.de/termine/the-sarahbanda-sarah-willis-horn-leitung-889299/
DTSTART;TZID=Europe/Berlin:20260730T193000
DTEND;TZID=Europe/Berlin:20260730T213000
DESCRIPTION:Interpreten: The Sarahbanda\, Sarah Willis (Horn & Leitung) \nhttps://www.concerti.de/termine/the-sarahbanda-sarah-willis-horn-leitung-889299/
LOCATION:Stadthalle\, Oberursel (Taunus)
END:VEVENT
END:VCALENDAR