BEGIN:VCALENDAR
VERSION:2.0
PRODID:concerti//https://www.concerti.de
CALSCALE:GREGORIAN
BEGIN:VTIMEZONE
TZID:Europe/Berlin
X-LIC-LOCATION:Europe/Berlin
BEGIN:DAYLIGHT
TZOFFSETFROM:+0100
TZOFFSETTO:+0200
TZNAME:CEST
DTSTART:19700329T020000
RRULE:FREQ=YEARLY;BYMONTH=3;BYDAY=-1SU
END:DAYLIGHT
BEGIN:STANDARD
TZOFFSETFROM:+0200
TZOFFSETTO:+0100
TZNAME:CET
DTSTART:19701025T030000
RRULE:FREQ=YEARLY;BYMONTH=10;BYDAY=-1SU
END:STANDARD
END:VTIMEZONE
BEGIN:VEVENT
UID:14e63e9ff8f2f1da362daabeeca5c1b5
SUMMARY:Daniil Trifonov (Klavier), Mahler Chamber Orchestra, Daniel Harding (Leitung) - Rheingau Musik Festival
URL:https://www.concerti.de/termine/daniil-trifonov-klavier-mahler-chamber-orchestra-daniel-harding-leitung-kurhaus-wiesbaden-889308/
DTSTART;TZID=Europe/Berlin:20260731T193000
DTEND;TZID=Europe/Berlin:20260731T213000
DESCRIPTION:Interpreten: Daniil Trifonov (Klavier)\, Mahler Chamber Orchestra\, Daniel Harding (Leitung) \nProgramm: Brahms: Klavierkonzert Nr. 1 d-Moll op. 15\, Dvořák: Sinfonie Nr. 8 G-Dur op. 88 \nhttps://www.concerti.de/termine/daniil-trifonov-klavier-mahler-chamber-orchestra-daniel-harding-leitung-kurhaus-wiesbaden-889308/
LOCATION:Kurhaus Wiesbaden\, Kurhausplatz 1\, 65189 Wiesbaden
END:VEVENT
END:VCALENDAR