BEGIN:VCALENDAR
VERSION:2.0
PRODID:concerti//https://www.concerti.de
CALSCALE:GREGORIAN
BEGIN:VTIMEZONE
TZID:Europe/Berlin
X-LIC-LOCATION:Europe/Berlin
BEGIN:DAYLIGHT
TZOFFSETFROM:+0100
TZOFFSETTO:+0200
TZNAME:CEST
DTSTART:19700329T020000
RRULE:FREQ=YEARLY;BYMONTH=3;BYDAY=-1SU
END:DAYLIGHT
BEGIN:STANDARD
TZOFFSETFROM:+0200
TZOFFSETTO:+0100
TZNAME:CET
DTSTART:19701025T030000
RRULE:FREQ=YEARLY;BYMONTH=10;BYDAY=-1SU
END:STANDARD
END:VTIMEZONE
BEGIN:VEVENT
UID:201ac749e0aa188f43dbf0f6baefb7e7
SUMMARY:Gabi Hartmann (vocals), Band - Rheingau Musik Festival
URL:https://www.concerti.de/termine/gabi-hartmann-vocals-band-889311/
DTSTART;TZID=Europe/Berlin:20260731T193000
DTEND;TZID=Europe/Berlin:20260731T213000
DESCRIPTION:Interpreten: Gabi Hartmann (vocals)\, Band \nhttps://www.concerti.de/termine/gabi-hartmann-vocals-band-889311/
LOCATION:Weingut Künstler\, Hochheim (Main)
END:VEVENT
END:VCALENDAR