BEGIN:VCALENDAR
VERSION:2.0
PRODID:concerti//https://www.concerti.de
CALSCALE:GREGORIAN
BEGIN:VTIMEZONE
TZID:Europe/Berlin
X-LIC-LOCATION:Europe/Berlin
BEGIN:DAYLIGHT
TZOFFSETFROM:+0100
TZOFFSETTO:+0200
TZNAME:CEST
DTSTART:19700329T020000
RRULE:FREQ=YEARLY;BYMONTH=3;BYDAY=-1SU
END:DAYLIGHT
BEGIN:STANDARD
TZOFFSETFROM:+0200
TZOFFSETTO:+0100
TZNAME:CET
DTSTART:19701025T030000
RRULE:FREQ=YEARLY;BYMONTH=10;BYDAY=-1SU
END:STANDARD
END:VTIMEZONE
BEGIN:VEVENT
UID:6d8bd96f7e38467616436f0a4be4bc35
SUMMARY:Charles Yang (violin), Peter Dugan (piano) - Rheingau Musik Festival
URL:https://www.concerti.de/termine/charles-yang-violin-peter-dugan-piano-889314/
DTSTART;TZID=Europe/Berlin:20260731T210000
DTEND;TZID=Europe/Berlin:20260731T230000
DESCRIPTION:Interpreten: Charles Yang (violin)\, Peter Dugan (piano) \nProgramm: Werke von Gershwin\, Cooke\, Arlen\, The Beatles u. a. \nhttps://www.concerti.de/termine/charles-yang-violin-peter-dugan-piano-889314/
LOCATION:Tattersall\, Wiesbaden
END:VEVENT
END:VCALENDAR