BEGIN:VCALENDAR
VERSION:2.0
PRODID:concerti//https://www.concerti.de
CALSCALE:GREGORIAN
BEGIN:VTIMEZONE
TZID:Europe/Berlin
X-LIC-LOCATION:Europe/Berlin
BEGIN:DAYLIGHT
TZOFFSETFROM:+0100
TZOFFSETTO:+0200
TZNAME:CEST
DTSTART:19700329T020000
RRULE:FREQ=YEARLY;BYMONTH=3;BYDAY=-1SU
END:DAYLIGHT
BEGIN:STANDARD
TZOFFSETFROM:+0200
TZOFFSETTO:+0100
TZNAME:CET
DTSTART:19701025T030000
RRULE:FREQ=YEARLY;BYMONTH=10;BYDAY=-1SU
END:STANDARD
END:VTIMEZONE
BEGIN:VEVENT
UID:ba166bb4f4cfa8b203504164dc040685
SUMMARY:Flowers of Scotland
URL:https://www.concerti.de/termine/flowers-of-scotland-889317/
DTSTART;TZID=Europe/Berlin:20260815T200000
DTEND;TZID=Europe/Berlin:20260815T220000
DESCRIPTION:Interpreten: Band\, Main-Barockorchester Frankfurt\, Brian Berryman (Flöte & Leitung)\, Martin Jopp (Leitung) \nProgramm: Werke von Oswald\, Geminiani\, Blavet\, Kelli & McGibbon \nhttps://www.concerti.de/termine/flowers-of-scotland-889317/
LOCATION:Karmeliterkloster\, Frankfurt (Main)
END:VEVENT
END:VCALENDAR