BEGIN:VCALENDAR
VERSION:2.0
PRODID:concerti//https://www.concerti.de
CALSCALE:GREGORIAN
BEGIN:VTIMEZONE
TZID:Europe/Berlin
X-LIC-LOCATION:Europe/Berlin
BEGIN:DAYLIGHT
TZOFFSETFROM:+0100
TZOFFSETTO:+0200
TZNAME:CEST
DTSTART:19700329T020000
RRULE:FREQ=YEARLY;BYMONTH=3;BYDAY=-1SU
END:DAYLIGHT
BEGIN:STANDARD
TZOFFSETFROM:+0200
TZOFFSETTO:+0100
TZNAME:CET
DTSTART:19701025T030000
RRULE:FREQ=YEARLY;BYMONTH=10;BYDAY=-1SU
END:STANDARD
END:VTIMEZONE
BEGIN:VEVENT
UID:2ffe4378bc771de7c16c34ca90915308
SUMMARY:London Lights! - Rheingau Musik Festival
URL:https://www.concerti.de/termine/london-lights-889374/
DTSTART;TZID=Europe/Berlin:20270725T193000
DTEND;TZID=Europe/Berlin:20270725T213000
DESCRIPTION:Interpreten: Sophie Evans (vocals)\, Alice Fearn (vocals)\, Scott Davies (vocals) Ryan Kopel (vocals)\, Münchner Rundfunkorchester\, Joseph R. Olefirowicz (Leitung)\, Annekatrin Hentschel (Moderation) \nhttps://www.concerti.de/termine/london-lights-889374/
LOCATION:Kurpark\, Wiesbaden
END:VEVENT
END:VCALENDAR