BEGIN:VCALENDAR
VERSION:2.0
PRODID:concerti//https://www.concerti.de
CALSCALE:GREGORIAN
BEGIN:VTIMEZONE
TZID:Europe/Berlin
X-LIC-LOCATION:Europe/Berlin
BEGIN:DAYLIGHT
TZOFFSETFROM:+0100
TZOFFSETTO:+0200
TZNAME:CEST
DTSTART:19700329T020000
RRULE:FREQ=YEARLY;BYMONTH=3;BYDAY=-1SU
END:DAYLIGHT
BEGIN:STANDARD
TZOFFSETFROM:+0200
TZOFFSETTO:+0100
TZNAME:CET
DTSTART:19701025T030000
RRULE:FREQ=YEARLY;BYMONTH=10;BYDAY=-1SU
END:STANDARD
END:VTIMEZONE
BEGIN:VEVENT
UID:2c5132dec05273ac24f19c4a5636b131
SUMMARY:Alexandra Reinprecht (Sopran), Jörg Schneider (Tenor), Manfred Schiebel (Klavier) - Serenadenkonzerte Niederösterreich
URL:https://www.concerti.de/termine/alexandra-reinprecht-sopran-joerg-schneider-tenor-manfred-schiebel-klavier-889444/
DTSTART;TZID=Europe/Berlin:20260830T180000
DTEND;TZID=Europe/Berlin:20260830T200000
DESCRIPTION:Interpreten: Alexandra Reinprecht (Sopran)\, Jörg Schneider (Tenor)\, Manfred Schiebel (Klavier) \nProgramm: Werke von Zeller \nhttps://www.concerti.de/termine/alexandra-reinprecht-sopran-joerg-schneider-tenor-manfred-schiebel-klavier-889444/
LOCATION:Schloss St. Peter in der Au\, St. Peter in der Au
END:VEVENT
END:VCALENDAR