BEGIN:VCALENDAR
VERSION:2.0
PRODID:concerti//https://www.concerti.de
CALSCALE:GREGORIAN
BEGIN:VTIMEZONE
TZID:Europe/Berlin
X-LIC-LOCATION:Europe/Berlin
BEGIN:DAYLIGHT
TZOFFSETFROM:+0100
TZOFFSETTO:+0200
TZNAME:CEST
DTSTART:19700329T020000
RRULE:FREQ=YEARLY;BYMONTH=3;BYDAY=-1SU
END:DAYLIGHT
BEGIN:STANDARD
TZOFFSETFROM:+0200
TZOFFSETTO:+0100
TZNAME:CET
DTSTART:19701025T030000
RRULE:FREQ=YEARLY;BYMONTH=10;BYDAY=-1SU
END:STANDARD
END:VTIMEZONE
BEGIN:VEVENT
UID:0e6bd7454f5d7fd884d42e699a17c775
SUMMARY:Melancholy &amp; Pleasure - Trigonale – Festival der alten Musik
URL:https://www.concerti.de/termine/melancholy-pleasure-889455/
DTSTART;TZID=Europe/Berlin:20260906T190000
DTEND;TZID=Europe/Berlin:20260906T210000
DESCRIPTION:Interpreten: Anna Dennis (Sopran)\, Alison Luthmers (Violine)\, Judith Steenbrink (Violine)\, Danka Nikolic (Viola)\, Majella Münz (Violoncello)\, Christine Sticher (Violone) \nProgramm: Werke von Locke\, Blow\, H. Purcell\, D. Purcell u. a. \nhttps://www.concerti.de/termine/melancholy-pleasure-889455/
LOCATION:Stiftskirche St. Georgen\, St. Georgen/Längsee
END:VEVENT
END:VCALENDAR