BEGIN:VCALENDAR
VERSION:2.0
PRODID:concerti//https://www.concerti.de
CALSCALE:GREGORIAN
BEGIN:VTIMEZONE
TZID:Europe/Berlin
X-LIC-LOCATION:Europe/Berlin
BEGIN:DAYLIGHT
TZOFFSETFROM:+0100
TZOFFSETTO:+0200
TZNAME:CEST
DTSTART:19700329T020000
RRULE:FREQ=YEARLY;BYMONTH=3;BYDAY=-1SU
END:DAYLIGHT
BEGIN:STANDARD
TZOFFSETFROM:+0200
TZOFFSETTO:+0100
TZNAME:CET
DTSTART:19701025T030000
RRULE:FREQ=YEARLY;BYMONTH=10;BYDAY=-1SU
END:STANDARD
END:VTIMEZONE
BEGIN:VEVENT
UID:2e0a5d257ebc4139e9cf6648d4a5a979
SUMMARY:Purcell: Dido &amp; Aeneas (konzertant) - Trigonale – Festival der alten Musik
URL:https://www.concerti.de/termine/purcell-dido-aeneas-konzertant-889458/
DTSTART;TZID=Europe/Berlin:20260911T190000
DTEND;TZID=Europe/Berlin:20260911T210000
DESCRIPTION:Interpreten: Anita Giovanna Rosati (Sopran)\, Carine Tinney (Sopran)\, Johanna Zachhuber (Mezzosopran)\, Jan Petryka (Tenor)\, Wolf Matthias Friedrich (Bass)\, Instrumental Ensemble\, Johanna Soller (Cembalo\, Orgel & Leitung) \nhttps://www.concerti.de/termine/purcell-dido-aeneas-konzertant-889458/
LOCATION:Rathaus St. Veith/Glan\, St. Veith/Glan
END:VEVENT
END:VCALENDAR