BEGIN:VCALENDAR
VERSION:2.0
PRODID:concerti//https://www.concerti.de
CALSCALE:GREGORIAN
BEGIN:VTIMEZONE
TZID:Europe/Berlin
X-LIC-LOCATION:Europe/Berlin
BEGIN:DAYLIGHT
TZOFFSETFROM:+0100
TZOFFSETTO:+0200
TZNAME:CEST
DTSTART:19700329T020000
RRULE:FREQ=YEARLY;BYMONTH=3;BYDAY=-1SU
END:DAYLIGHT
BEGIN:STANDARD
TZOFFSETFROM:+0200
TZOFFSETTO:+0100
TZNAME:CET
DTSTART:19701025T030000
RRULE:FREQ=YEARLY;BYMONTH=10;BYDAY=-1SU
END:STANDARD
END:VTIMEZONE
BEGIN:VEVENT
UID:c6c641dc96cdce7201f73b81cae4b8b1
SUMMARY:Meister zweier Welten - Trigonale – Festival der alten Musik
URL:https://www.concerti.de/termine/meister-zweier-welten-889473/
DTSTART;TZID=Europe/Berlin:20260913T190000
DTEND;TZID=Europe/Berlin:20260913T210000
DESCRIPTION:Interpreten: Carine Tinney (Sopran)\, Johanna Zachhuber (Mezzosopran)\, Jan Petryka (Tenor)\, Wolf Matthias Friedrich (Bass)\, Instrumental Ensemble\, Johanna Soller (Cembalo\, Orgel & Leitung) \nProgramm: Werke von Purcell & J. S. Bach \nhttps://www.concerti.de/termine/meister-zweier-welten-889473/
LOCATION:Stiftskirche St. Georgen\, St. Georgen/Längsee
END:VEVENT
END:VCALENDAR