BEGIN:VCALENDAR
VERSION:2.0
PRODID:concerti//https://www.concerti.de
CALSCALE:GREGORIAN
BEGIN:VTIMEZONE
TZID:Europe/Berlin
X-LIC-LOCATION:Europe/Berlin
BEGIN:DAYLIGHT
TZOFFSETFROM:+0100
TZOFFSETTO:+0200
TZNAME:CEST
DTSTART:19700329T020000
RRULE:FREQ=YEARLY;BYMONTH=3;BYDAY=-1SU
END:DAYLIGHT
BEGIN:STANDARD
TZOFFSETFROM:+0200
TZOFFSETTO:+0100
TZNAME:CET
DTSTART:19701025T030000
RRULE:FREQ=YEARLY;BYMONTH=10;BYDAY=-1SU
END:STANDARD
END:VTIMEZONE
BEGIN:VEVENT
UID:93306fa59836195dae4abe9f5336cee7
SUMMARY:Daniel Gutmann (Bariton), Andrea Linsbauer (Klavier), Gerti Drassl (Rezitation) - Serenadenkonzerte Niederösterreich
URL:https://www.concerti.de/termine/daniel-gutmann-bariton-andrea-linsbauer-klavier-gerti-drassl-rezitation-889479/
DTSTART;TZID=Europe/Berlin:20260919T180000
DTEND;TZID=Europe/Berlin:20260919T200000
DESCRIPTION:Interpreten: Daniel Gutmann (Bariton)\, Andrea Linsbauer (Klavier)\, Gerti Drassl (Rezitation) \nProgramm: Werke von Einem\, Schubert\, Lehár u. a.\, Lesung aus Werken von Ingrisch \nhttps://www.concerti.de/termine/daniel-gutmann-bariton-andrea-linsbauer-klavier-gerti-drassl-rezitation-889479/
LOCATION:Kirche zur heiligen Katharina\, Oberdürnbach
END:VEVENT
END:VCALENDAR