BEGIN:VCALENDAR
VERSION:2.0
PRODID:concerti//https://www.concerti.de
CALSCALE:GREGORIAN
BEGIN:VTIMEZONE
TZID:Europe/Berlin
X-LIC-LOCATION:Europe/Berlin
BEGIN:DAYLIGHT
TZOFFSETFROM:+0100
TZOFFSETTO:+0200
TZNAME:CEST
DTSTART:19700329T020000
RRULE:FREQ=YEARLY;BYMONTH=3;BYDAY=-1SU
END:DAYLIGHT
BEGIN:STANDARD
TZOFFSETFROM:+0200
TZOFFSETTO:+0100
TZNAME:CET
DTSTART:19701025T030000
RRULE:FREQ=YEARLY;BYMONTH=10;BYDAY=-1SU
END:STANDARD
END:VTIMEZONE
BEGIN:VEVENT
UID:d28415eec3e84cd268ba4d8861b1f239
SUMMARY:Rafael Fingerlos (Bariton), Eloise Bella Kohn (Klavier), Philip Kelz (Rezitation) - Serenadenkonzerte Niederösterreich
URL:https://www.concerti.de/termine/rafael-fingerlos-bariton-eloise-bella-kohn-klavier-philip-kelz-rezitation-889506/
DTSTART;TZID=Europe/Berlin:20260927T160000
DTEND;TZID=Europe/Berlin:20260927T180000
DESCRIPTION:Interpreten: Rafael Fingerlos (Bariton)\, Eloise Bella Kohn (Klavier)\, Philip Kelz (Rezitation) \nProgramm: Werke von Beethoven\, Mozart & Schubert \nhttps://www.concerti.de/termine/rafael-fingerlos-bariton-eloise-bella-kohn-klavier-philip-kelz-rezitation-889506/
LOCATION:Haus der Kunst\, Baden
END:VEVENT
END:VCALENDAR