BEGIN:VCALENDAR
VERSION:2.0
PRODID:concerti//https://www.concerti.de
CALSCALE:GREGORIAN
BEGIN:VTIMEZONE
TZID:Europe/Berlin
X-LIC-LOCATION:Europe/Berlin
BEGIN:DAYLIGHT
TZOFFSETFROM:+0100
TZOFFSETTO:+0200
TZNAME:CEST
DTSTART:19700329T020000
RRULE:FREQ=YEARLY;BYMONTH=3;BYDAY=-1SU
END:DAYLIGHT
BEGIN:STANDARD
TZOFFSETFROM:+0200
TZOFFSETTO:+0100
TZNAME:CET
DTSTART:19701025T030000
RRULE:FREQ=YEARLY;BYMONTH=10;BYDAY=-1SU
END:STANDARD
END:VTIMEZONE
BEGIN:VEVENT
UID:92dc6fd7de56b97be1edea8692044176
SUMMARY:Mitglieder des Tiroler Symphonieorchesters Innsbruck, Juliana Haider (Schauspiel) - Klangwerkstatt, Musikalischer Feierabend, Blind Date
URL:https://www.concerti.de/termine/mitglieder-des-tiroler-symphonieorchesters-innsbruck-juliana-haider-schauspiel-haus-der-musik-innsbruck-889525/
DTSTART;TZID=Europe/Berlin:20261004T103000
DTEND;TZID=Europe/Berlin:20261004T123000
DESCRIPTION:Interpreten: Mitglieder des Tiroler Symphonieorchesters Innsbruck\, Juliana Haider (Schauspiel)\, Mitglieder des Tiroler Symphonieorchesters Innsbruck \nhttps://www.concerti.de/termine/mitglieder-des-tiroler-symphonieorchesters-innsbruck-juliana-haider-schauspiel-haus-der-musik-innsbruck-889525/
LOCATION:Haus der Musik Innsbruck\, Universitätsstraße 1\, 6020 Innsbruck
END:VEVENT
END:VCALENDAR