BEGIN:VCALENDAR
VERSION:2.0
PRODID:concerti//https://www.concerti.de
CALSCALE:GREGORIAN
BEGIN:VTIMEZONE
TZID:Europe/Berlin
X-LIC-LOCATION:Europe/Berlin
BEGIN:DAYLIGHT
TZOFFSETFROM:+0100
TZOFFSETTO:+0200
TZNAME:CEST
DTSTART:19700329T020000
RRULE:FREQ=YEARLY;BYMONTH=3;BYDAY=-1SU
END:DAYLIGHT
BEGIN:STANDARD
TZOFFSETFROM:+0200
TZOFFSETTO:+0100
TZNAME:CET
DTSTART:19701025T030000
RRULE:FREQ=YEARLY;BYMONTH=10;BYDAY=-1SU
END:STANDARD
END:VTIMEZONE
BEGIN:VEVENT
UID:8f0ac4637ec8a0298d4b8307ceecea4d
SUMMARY:Erich Höbarth (Violine), Orchester des Tiroler Landeskonservatoriums - Academie Konzert
URL:https://www.concerti.de/termine/erich-hoebarth-violine-orchester-des-tiroler-landeskonservatoriums-haus-der-musik-innsbruck-889571/
DTSTART;TZID=Europe/Berlin:20261013T193000
DTEND;TZID=Europe/Berlin:20261013T213000
DESCRIPTION:Interpreten: Erich Höbarth (Violine)\, Orchester des Tiroler Landeskonservatoriums \nProgramm: Beethoven: Ouvertüre zu „Coriolan“ c-Moll op. 62 & Romanze G-Dur op. 40\, Mozart: Klavierkonzert c-Moll KV 491\, Haydn: Sinfonie G-Dur Hob. I:92 „Oxford“ \nhttps://www.concerti.de/termine/erich-hoebarth-violine-orchester-des-tiroler-landeskonservatoriums-haus-der-musik-innsbruck-889571/
LOCATION:Haus der Musik Innsbruck\, Universitätsstraße 1\, 6020 Innsbruck
END:VEVENT
END:VCALENDAR