BEGIN:VCALENDAR
VERSION:2.0
PRODID:concerti//https://www.concerti.de
CALSCALE:GREGORIAN
BEGIN:VTIMEZONE
TZID:Europe/Berlin
X-LIC-LOCATION:Europe/Berlin
BEGIN:DAYLIGHT
TZOFFSETFROM:+0100
TZOFFSETTO:+0200
TZNAME:CEST
DTSTART:19700329T020000
RRULE:FREQ=YEARLY;BYMONTH=3;BYDAY=-1SU
END:DAYLIGHT
BEGIN:STANDARD
TZOFFSETFROM:+0200
TZOFFSETTO:+0100
TZNAME:CET
DTSTART:19701025T030000
RRULE:FREQ=YEARLY;BYMONTH=10;BYDAY=-1SU
END:STANDARD
END:VTIMEZONE
BEGIN:VEVENT
UID:cb3eb8433418f23a06b92105caa4e2e4
SUMMARY:Benjamin Sattlecker (Bariton), Anne Harvey-Nagl (Violine), Lena Frankhauser (Viola), Mara Achleitner (Violoncello), Bernadette Bartos (Klavier) - Serenadenkonzerte Niederösterreich
URL:https://www.concerti.de/termine/benjamin-sattlecker-bariton-anne-harvey-nagl-violine-lena-frankhauser-viola-mara-achleitner-violoncello-bernadette-bartos-klavier-889584/
DTSTART;TZID=Europe/Berlin:20261016T193000
DTEND;TZID=Europe/Berlin:20261016T213000
DESCRIPTION:Interpreten: Benjamin Sattlecker (Bariton)\, Anne Harvey-Nagl (Violine)\, Lena Frankhauser (Viola)\, Mara Achleitner (Violoncello)\, Bernadette Bartos (Klavier) \nProgramm: Werke von Schönberg & Beethoven \nhttps://www.concerti.de/termine/benjamin-sattlecker-bariton-anne-harvey-nagl-violine-lena-frankhauser-viola-mara-achleitner-violoncello-bernadette-bartos-klavier-889584/
LOCATION:Schönberg-Haus Mödling\, Mödling
END:VEVENT
END:VCALENDAR