BEGIN:VCALENDAR
VERSION:2.0
PRODID:concerti//https://www.concerti.de
CALSCALE:GREGORIAN
BEGIN:VTIMEZONE
TZID:Europe/Berlin
X-LIC-LOCATION:Europe/Berlin
BEGIN:DAYLIGHT
TZOFFSETFROM:+0100
TZOFFSETTO:+0200
TZNAME:CEST
DTSTART:19700329T020000
RRULE:FREQ=YEARLY;BYMONTH=3;BYDAY=-1SU
END:DAYLIGHT
BEGIN:STANDARD
TZOFFSETFROM:+0200
TZOFFSETTO:+0100
TZNAME:CET
DTSTART:19701025T030000
RRULE:FREQ=YEARLY;BYMONTH=10;BYDAY=-1SU
END:STANDARD
END:VTIMEZONE
BEGIN:VEVENT
UID:7d6836731684f33d509724ddb23fe3ca
SUMMARY:Händel: Hercules (konzertant)
URL:https://www.concerti.de/termine/haendel-hercules-konzertant-theater-an-der-wien-889606/
DTSTART;TZID=Europe/Berlin:20261021T190000
DTEND;TZID=Europe/Berlin:20261021T210000
DESCRIPTION:Interpreten: Edwin Crossley-Mercer (Hercules)\, Avery Amereau (Dejanira)\, Thaïs Raï-Westphal (Iole)\, Bastien Rimondi (Hyllus)\, Choeur de Chambre de Namur\, Opera Fuoco Orchestra\, David Stern (Leitung) \nhttps://www.concerti.de/termine/haendel-hercules-konzertant-theater-an-der-wien-889606/
LOCATION:Theater an der Wien\, Linke Wienzeile 6\, 1060 Wien
END:VEVENT
END:VCALENDAR