BEGIN:VCALENDAR
VERSION:2.0
PRODID:concerti//https://www.concerti.de
CALSCALE:GREGORIAN
BEGIN:VTIMEZONE
TZID:Europe/Berlin
X-LIC-LOCATION:Europe/Berlin
BEGIN:DAYLIGHT
TZOFFSETFROM:+0100
TZOFFSETTO:+0200
TZNAME:CEST
DTSTART:19700329T020000
RRULE:FREQ=YEARLY;BYMONTH=3;BYDAY=-1SU
END:DAYLIGHT
BEGIN:STANDARD
TZOFFSETFROM:+0200
TZOFFSETTO:+0100
TZNAME:CET
DTSTART:19701025T030000
RRULE:FREQ=YEARLY;BYMONTH=10;BYDAY=-1SU
END:STANDARD
END:VTIMEZONE
BEGIN:VEVENT
UID:8c20367bbef75af4c6e34341a9317472
SUMMARY:Marta Pacifici (Mezzosopran), Michele Pasotti (Laute) - Trigonale – Festival der alten Musik
URL:https://www.concerti.de/termine/marta-pacifici-mezzosopran-michele-pasotti-laute-889615/
DTSTART;TZID=Europe/Berlin:20261023T190000
DTEND;TZID=Europe/Berlin:20261023T210000
DESCRIPTION:Interpreten: Marta Pacifici (Mezzosopran)\, Michele Pasotti (Laute) \nProgramm: Werke von Rossi \nhttps://www.concerti.de/termine/marta-pacifici-mezzosopran-michele-pasotti-laute-889615/
LOCATION:Musik.Werkstatt.Portendorf\, Portendorf
END:VEVENT
END:VCALENDAR