BEGIN:VCALENDAR
VERSION:2.0
PRODID:concerti//https://www.concerti.de
CALSCALE:GREGORIAN
BEGIN:VTIMEZONE
TZID:Europe/Berlin
X-LIC-LOCATION:Europe/Berlin
BEGIN:DAYLIGHT
TZOFFSETFROM:+0100
TZOFFSETTO:+0200
TZNAME:CEST
DTSTART:19700329T020000
RRULE:FREQ=YEARLY;BYMONTH=3;BYDAY=-1SU
END:DAYLIGHT
BEGIN:STANDARD
TZOFFSETFROM:+0200
TZOFFSETTO:+0100
TZNAME:CET
DTSTART:19701025T030000
RRULE:FREQ=YEARLY;BYMONTH=10;BYDAY=-1SU
END:STANDARD
END:VTIMEZONE
BEGIN:VEVENT
UID:1487b79c21638886eb85e3e32372aedc
SUMMARY:Wagner: Der fliegende Holländer
URL:https://www.concerti.de/termine/wagner-der-fliegende-hollaender-theater-an-der-wien-889590/
DTSTART;TZID=Europe/Berlin:20261028T190000
DTEND;TZID=Europe/Berlin:20261028T210000
DESCRIPTION:Interpreten: Wilhelm Schwinghammer (Daland)\, Ambur Braid (Senta)\, Cameron Becker (Erik)\, Ieva Prudnikovaite (Mary)\, James Ley (Der Steuermann)\, Jordan Shanahan (Der Holländer)\, Robert Jindra (Leitung)\, Philipp Stölzl (Regie) \nhttps://www.concerti.de/termine/wagner-der-fliegende-hollaender-theater-an-der-wien-889590/
LOCATION:Theater an der Wien\, Linke Wienzeile 6\, 1060 Wien
END:VEVENT
END:VCALENDAR