BEGIN:VCALENDAR
VERSION:2.0
PRODID:concerti//https://www.concerti.de
CALSCALE:GREGORIAN
BEGIN:VTIMEZONE
TZID:Europe/Berlin
X-LIC-LOCATION:Europe/Berlin
BEGIN:DAYLIGHT
TZOFFSETFROM:+0100
TZOFFSETTO:+0200
TZNAME:CEST
DTSTART:19700329T020000
RRULE:FREQ=YEARLY;BYMONTH=3;BYDAY=-1SU
END:DAYLIGHT
BEGIN:STANDARD
TZOFFSETFROM:+0200
TZOFFSETTO:+0100
TZNAME:CET
DTSTART:19701025T030000
RRULE:FREQ=YEARLY;BYMONTH=10;BYDAY=-1SU
END:STANDARD
END:VTIMEZONE
BEGIN:VEVENT
UID:f732384ed23bca20eca9c29fb18bbf12
SUMMARY:Händel: Radamisto (konzertant)
URL:https://www.concerti.de/termine/haendel-radamisto-konzertant-theater-an-der-wien-889643/
DTSTART;TZID=Europe/Berlin:20261104T190000
DTEND;TZID=Europe/Berlin:20261104T210000
DESCRIPTION:Interpreten: Max Emanuel Cencic (Radamisto)\, Fanny Lustaud (Zenobia)\, Dennis Orellana (Tigrane)\, Katrīna Paula Felsberga (Polissena)\, Zachary Wilson (Tiridate)\, Federico Fiorio (Fraarte)\, Tomáš Král (Farasmane)\, Wrocław Baroque Orchestra\, Benjamin Bayl (Leitung) \nhttps://www.concerti.de/termine/haendel-radamisto-konzertant-theater-an-der-wien-889643/
LOCATION:Theater an der Wien\, Linke Wienzeile 6\, 1060 Wien
END:VEVENT
END:VCALENDAR