BEGIN:VCALENDAR
VERSION:2.0
PRODID:concerti//https://www.concerti.de
CALSCALE:GREGORIAN
BEGIN:VTIMEZONE
TZID:Europe/Berlin
X-LIC-LOCATION:Europe/Berlin
BEGIN:DAYLIGHT
TZOFFSETFROM:+0100
TZOFFSETTO:+0200
TZNAME:CEST
DTSTART:19700329T020000
RRULE:FREQ=YEARLY;BYMONTH=3;BYDAY=-1SU
END:DAYLIGHT
BEGIN:STANDARD
TZOFFSETFROM:+0200
TZOFFSETTO:+0100
TZNAME:CET
DTSTART:19701025T030000
RRULE:FREQ=YEARLY;BYMONTH=10;BYDAY=-1SU
END:STANDARD
END:VTIMEZONE
BEGIN:VEVENT
UID:3b7bd36d867ab00273ac05a594991eed
SUMMARY:Finalistenkonzert Werner-Pirchner-Preis - HDM in Concert
URL:https://www.concerti.de/termine/finalistenkonzert-werner-pirchner-preis-haus-der-musik-innsbruck-889646/
DTSTART;TZID=Europe/Berlin:20261105T193000
DTEND;TZID=Europe/Berlin:20261105T213000
DESCRIPTION:Interpreten: Finalisten des internationalen Wettbewerbs für Blasinstumente \nProgramm: Mozart: Oboenkonzert C-Dur KV 314\, u. a. \nhttps://www.concerti.de/termine/finalistenkonzert-werner-pirchner-preis-haus-der-musik-innsbruck-889646/
LOCATION:Haus der Musik Innsbruck\, Universitätsstraße 1\, 6020 Innsbruck
END:VEVENT
END:VCALENDAR