BEGIN:VCALENDAR
VERSION:2.0
PRODID:concerti//https://www.concerti.de
CALSCALE:GREGORIAN
BEGIN:VTIMEZONE
TZID:Europe/Berlin
X-LIC-LOCATION:Europe/Berlin
BEGIN:DAYLIGHT
TZOFFSETFROM:+0100
TZOFFSETTO:+0200
TZNAME:CEST
DTSTART:19700329T020000
RRULE:FREQ=YEARLY;BYMONTH=3;BYDAY=-1SU
END:DAYLIGHT
BEGIN:STANDARD
TZOFFSETFROM:+0200
TZOFFSETTO:+0100
TZNAME:CET
DTSTART:19701025T030000
RRULE:FREQ=YEARLY;BYMONTH=10;BYDAY=-1SU
END:STANDARD
END:VTIMEZONE
BEGIN:VEVENT
UID:35ec6269480024909924073cb590cb52
SUMMARY:Lund: Zarah 47 – Das totale Lied
URL:https://www.concerti.de/termine/lund-zarah-47-das-totale-lied-haus-der-musik-innsbruck-889497/
DTSTART;TZID=Europe/Berlin:20261108T193000
DTEND;TZID=Europe/Berlin:20261108T213000
DESCRIPTION:Interpreten: Brigitte Jaufenthaler (Gesang & Schauspiel)\, Christian Wegscheider (Klavier & Leitung)\, Susi Weber (Regie) \nhttps://www.concerti.de/termine/lund-zarah-47-das-totale-lied-haus-der-musik-innsbruck-889497/
LOCATION:Haus der Musik Innsbruck\, Universitätsstraße 1\, 6020 Innsbruck
END:VEVENT
END:VCALENDAR