BEGIN:VCALENDAR
VERSION:2.0
PRODID:concerti//https://www.concerti.de
CALSCALE:GREGORIAN
BEGIN:VTIMEZONE
TZID:Europe/Berlin
X-LIC-LOCATION:Europe/Berlin
BEGIN:DAYLIGHT
TZOFFSETFROM:+0100
TZOFFSETTO:+0200
TZNAME:CEST
DTSTART:19700329T020000
RRULE:FREQ=YEARLY;BYMONTH=3;BYDAY=-1SU
END:DAYLIGHT
BEGIN:STANDARD
TZOFFSETFROM:+0200
TZOFFSETTO:+0100
TZNAME:CET
DTSTART:19701025T030000
RRULE:FREQ=YEARLY;BYMONTH=10;BYDAY=-1SU
END:STANDARD
END:VTIMEZONE
BEGIN:VEVENT
UID:47db0f7c27210a396da05397e05dc184
SUMMARY:Öffne dich mein ganzes Herze… - Trigonale – Festival der alten Musik
URL:https://www.concerti.de/termine/oeffne-dich-mein-ganzes-herze-889694/
DTSTART;TZID=Europe/Berlin:20261212T190000
DTEND;TZID=Europe/Berlin:20261212T210000
DESCRIPTION:Interpreten: Nikolina Hrkać (Sopran)\, Daria Spiridonova (Violine)\, Ania Nowak-Pokrzywińska (Viola)\, Philipp Comploi (Violoncello)\, Alexandra Dienz (Violone)\, Guido Morini (Cembalo & Orgel)\, Georg Kallweit (Violine & Leitung) \nProgramm: Werke von B. Bach\, J. S. Bach\, Biber\, Telemann\, Händel\, Vivaldi & Buxtehude \nhttps://www.concerti.de/termine/oeffne-dich-mein-ganzes-herze-889694/
LOCATION:Musik.Werkstatt.Portendorf\, Portendorf
END:VEVENT
END:VCALENDAR