BEGIN:VCALENDAR
VERSION:2.0
PRODID:concerti//https://www.concerti.de
CALSCALE:GREGORIAN
BEGIN:VTIMEZONE
TZID:Europe/Berlin
X-LIC-LOCATION:Europe/Berlin
BEGIN:DAYLIGHT
TZOFFSETFROM:+0100
TZOFFSETTO:+0200
TZNAME:CEST
DTSTART:19700329T020000
RRULE:FREQ=YEARLY;BYMONTH=3;BYDAY=-1SU
END:DAYLIGHT
BEGIN:STANDARD
TZOFFSETFROM:+0200
TZOFFSETTO:+0100
TZNAME:CET
DTSTART:19701025T030000
RRULE:FREQ=YEARLY;BYMONTH=10;BYDAY=-1SU
END:STANDARD
END:VTIMEZONE
BEGIN:VEVENT
UID:f1f1248244a20b834c408926bd83bc3a
SUMMARY:Abraham: Ball im Savoy
URL:https://www.concerti.de/termine/abraham-ball-im-savoy-tiroler-landestheater-889649/
DTSTART;TZID=Europe/Berlin:20270131T180000
DTEND;TZID=Europe/Berlin:20270131T200000
DESCRIPTION:Interpreten: Guido Mancusi (Leitung)\, Christian von Götz (Regie) \nhttps://www.concerti.de/termine/abraham-ball-im-savoy-tiroler-landestheater-889649/
LOCATION:Tiroler Landestheater\, Rennweg 2\, 6020 Innsbruck
END:VEVENT
END:VCALENDAR