BEGIN:VCALENDAR
VERSION:2.0
PRODID:concerti//https://www.concerti.de
CALSCALE:GREGORIAN
BEGIN:VTIMEZONE
TZID:Europe/Berlin
X-LIC-LOCATION:Europe/Berlin
BEGIN:DAYLIGHT
TZOFFSETFROM:+0100
TZOFFSETTO:+0200
TZNAME:CEST
DTSTART:19700329T020000
RRULE:FREQ=YEARLY;BYMONTH=3;BYDAY=-1SU
END:DAYLIGHT
BEGIN:STANDARD
TZOFFSETFROM:+0200
TZOFFSETTO:+0100
TZNAME:CET
DTSTART:19701025T030000
RRULE:FREQ=YEARLY;BYMONTH=10;BYDAY=-1SU
END:STANDARD
END:VTIMEZONE
BEGIN:VEVENT
UID:5c4ca790a1f5f6a98a350cde8b41be3d
SUMMARY:Scxhmäh, Charme &amp; Operette
URL:https://www.concerti.de/termine/scxhmaeh-charme-operette-theater-an-der-wien-889743/
DTSTART;TZID=Europe/Berlin:20270220T200000
DTEND;TZID=Europe/Berlin:20270220T220000
DESCRIPTION:Interpreten: Maximilian Mayer (Tenor)\, Daniel Gutmann (Bariton)\, Pavel Singer (Klavier) \nProgramm: Werke von J. Strauss (Sohn)\, Stolz u. a. \nhttps://www.concerti.de/termine/scxhmaeh-charme-operette-theater-an-der-wien-889743/
LOCATION:Theater an der Wien\, Linke Wienzeile 6\, 1060 Wien
END:VEVENT
END:VCALENDAR