BEGIN:VCALENDAR
VERSION:2.0
PRODID:concerti//https://www.concerti.de
CALSCALE:GREGORIAN
BEGIN:VTIMEZONE
TZID:Europe/Berlin
X-LIC-LOCATION:Europe/Berlin
BEGIN:DAYLIGHT
TZOFFSETFROM:+0100
TZOFFSETTO:+0200
TZNAME:CEST
DTSTART:19700329T020000
RRULE:FREQ=YEARLY;BYMONTH=3;BYDAY=-1SU
END:DAYLIGHT
BEGIN:STANDARD
TZOFFSETFROM:+0200
TZOFFSETTO:+0100
TZNAME:CET
DTSTART:19701025T030000
RRULE:FREQ=YEARLY;BYMONTH=10;BYDAY=-1SU
END:STANDARD
END:VTIMEZONE
BEGIN:VEVENT
UID:6f2a4129df00c9f98348482867614cd8
SUMMARY:Beethoven: Leonore
URL:https://www.concerti.de/termine/beethoven-leonore-theater-an-der-wien-889746/
DTSTART;TZID=Europe/Berlin:20270227T190000
DTEND;TZID=Europe/Berlin:20270227T210000
DESCRIPTION:Interpreten: Alexander Grassauer (Don Fernando)\, Christoph Pohl (Don Pizarro)\, Attilio Glaser (Florestan)\, Julia Kleiter (Leonore)\, Patrick Zielke (Rocco)\, Jasmin Delfs (Marzelline)\, Matteo Ivan Rašić (Jaquino)\, Giedrė Šlekytė (Leitung)\, Stefan Herheim (Regie) \nhttps://www.concerti.de/termine/beethoven-leonore-theater-an-der-wien-889746/
LOCATION:Theater an der Wien\, Linke Wienzeile 6\, 1060 Wien
END:VEVENT
END:VCALENDAR