BEGIN:VCALENDAR
VERSION:2.0
PRODID:concerti//https://www.concerti.de
CALSCALE:GREGORIAN
BEGIN:VTIMEZONE
TZID:Europe/Berlin
X-LIC-LOCATION:Europe/Berlin
BEGIN:DAYLIGHT
TZOFFSETFROM:+0100
TZOFFSETTO:+0200
TZNAME:CEST
DTSTART:19700329T020000
RRULE:FREQ=YEARLY;BYMONTH=3;BYDAY=-1SU
END:DAYLIGHT
BEGIN:STANDARD
TZOFFSETFROM:+0200
TZOFFSETTO:+0100
TZNAME:CET
DTSTART:19701025T030000
RRULE:FREQ=YEARLY;BYMONTH=10;BYDAY=-1SU
END:STANDARD
END:VTIMEZONE
BEGIN:VEVENT
UID:66209f55b51a1d6757223374062bc3c8
SUMMARY:Evers: Gold!
URL:https://www.concerti.de/termine/evers-gold-theater-an-der-wien-889769/
DTSTART;TZID=Europe/Berlin:20270417T110000
DTEND;TZID=Europe/Berlin:20270417T130000
DESCRIPTION:Interpreten: Therese Troyer (Jacob)\, Hannes Schöggl (Schlagwerk)\, Elena Artisi (Regie) \nhttps://www.concerti.de/termine/evers-gold-theater-an-der-wien-889769/
LOCATION:Theater an der Wien\, Linke Wienzeile 6\, 1060 Wien
END:VEVENT
END:VCALENDAR