BEGIN:VCALENDAR
VERSION:2.0
PRODID:concerti//https://www.concerti.de
CALSCALE:GREGORIAN
BEGIN:VTIMEZONE
TZID:Europe/Berlin
X-LIC-LOCATION:Europe/Berlin
BEGIN:DAYLIGHT
TZOFFSETFROM:+0100
TZOFFSETTO:+0200
TZNAME:CEST
DTSTART:19700329T020000
RRULE:FREQ=YEARLY;BYMONTH=3;BYDAY=-1SU
END:DAYLIGHT
BEGIN:STANDARD
TZOFFSETFROM:+0200
TZOFFSETTO:+0100
TZNAME:CET
DTSTART:19701025T030000
RRULE:FREQ=YEARLY;BYMONTH=10;BYDAY=-1SU
END:STANDARD
END:VTIMEZONE
BEGIN:VEVENT
UID:0cf46e66dfd001d9b2bfee7ba01f7ba9
SUMMARY:Eleanor Lyons (Sopran), Samuel Hasselhorn (Bariton), Philharmonischer Chor München, Münchner Philharmoniker, Thomas Hengelbrock (Leitung)
URL:https://www.concerti.de/termine/eleanor-lyons-sopran-samuel-hasselhorn-bariton-philharmonischer-chor-muenchen-muenchner-philharmoniker-thomas-hengelbrock-leitung-isarphilharmonie-889825/
DTSTART;TZID=Europe/Berlin:20261024T190000
DTEND;TZID=Europe/Berlin:20261024T210000
DESCRIPTION:Interpreten: Eleanor Lyons (Sopran)\, Samuel Hasselhorn (Bariton)\, Philharmonischer Chor München\, Münchner Philharmoniker\, Thomas Hengelbrock (Leitung) \nProgramm: Mendelssohn: Mein Herz erhebet Gott\, den Herrn op. 69/3 & Wie der Hirsch schreit nach frischem Wasser op. 42\, Schumann: Szenen aus Goethes Faust \nhttps://www.concerti.de/termine/eleanor-lyons-sopran-samuel-hasselhorn-bariton-philharmonischer-chor-muenchen-muenchner-philharmoniker-thomas-hengelbrock-leitung-isarphilharmonie-889825/
LOCATION:Isarphilharmonie\, Hans-Preißinger-Straße 8\, 81379 München
END:VEVENT
END:VCALENDAR