BEGIN:VCALENDAR
VERSION:2.0
PRODID:concerti//https://www.concerti.de
CALSCALE:GREGORIAN
BEGIN:VTIMEZONE
TZID:Europe/Berlin
X-LIC-LOCATION:Europe/Berlin
BEGIN:DAYLIGHT
TZOFFSETFROM:+0100
TZOFFSETTO:+0200
TZNAME:CEST
DTSTART:19700329T020000
RRULE:FREQ=YEARLY;BYMONTH=3;BYDAY=-1SU
END:DAYLIGHT
BEGIN:STANDARD
TZOFFSETFROM:+0200
TZOFFSETTO:+0100
TZNAME:CET
DTSTART:19701025T030000
RRULE:FREQ=YEARLY;BYMONTH=10;BYDAY=-1SU
END:STANDARD
END:VTIMEZONE
BEGIN:VEVENT
UID:7784c7934d38b52fa57fd8858b6e283c
SUMMARY:Sebastian Förschl (Percussion), Jörg Hannabach (Percussion), Michael Leopold (Percussion), Stefan Gagelmann (Percussion), Guido Rückel (Percussion)
URL:https://www.concerti.de/termine/sebastian-foerschl-percussion-joerg-hannabach-percussion-michael-leopold-percussion-stefan-gagelmann-percussion-guido-rueckel-percussion-muenchner-kuenstlerhaus-889833/
DTSTART;TZID=Europe/Berlin:20261101T110000
DTEND;TZID=Europe/Berlin:20261101T130000
DESCRIPTION:Interpreten: Sebastian Förschl (Percussion)\, Jörg Hannabach (Percussion)\, Michael Leopold (Percussion)\, Stefan Gagelmann (Percussion)\, Guido Rückel (Percussion) \nProgramm: Reich: Music for Pieces of Wood\, Pendulum Music\, Drumming Part One & Six Marimbas \nhttps://www.concerti.de/termine/sebastian-foerschl-percussion-joerg-hannabach-percussion-michael-leopold-percussion-stefan-gagelmann-percussion-guido-rueckel-percussion-muenchner-kuenstlerhaus-889833/
LOCATION:Münchner Künstlerhaus\, Lenbachplatz 8\, 80333 München
END:VEVENT
END:VCALENDAR