BEGIN:VCALENDAR
VERSION:2.0
PRODID:concerti//https://www.concerti.de
CALSCALE:GREGORIAN
BEGIN:VTIMEZONE
TZID:Europe/Berlin
X-LIC-LOCATION:Europe/Berlin
BEGIN:DAYLIGHT
TZOFFSETFROM:+0100
TZOFFSETTO:+0200
TZNAME:CEST
DTSTART:19700329T020000
RRULE:FREQ=YEARLY;BYMONTH=3;BYDAY=-1SU
END:DAYLIGHT
BEGIN:STANDARD
TZOFFSETFROM:+0200
TZOFFSETTO:+0100
TZNAME:CET
DTSTART:19701025T030000
RRULE:FREQ=YEARLY;BYMONTH=10;BYDAY=-1SU
END:STANDARD
END:VTIMEZONE
BEGIN:VEVENT
UID:edf7812990dc5f9d0cd45008b3e4f523
SUMMARY:Janine Jansen (Violine), Münchner Philharmoniker, Lahav Shani (Leitung) - Klassik am Odeonsplatz
URL:https://www.concerti.de/termine/janine-jansen-violine-muenchner-philharmoniker-lahav-shani-leitung-695201/
DTSTART;TZID=Europe/Berlin:20261111T193000
DTEND;TZID=Europe/Berlin:20261111T213000
DESCRIPTION:Interpreten: Janine Jansen (Violine)\, Münchner Philharmoniker\, Lahav Shani (Leitung) \nProgramm: Schostakowitsch: Violinkonzert Nr. 1 a-Moll op. 77\, Mussorgsky/Ravel: Bilder einer Ausstellung \nhttps://www.concerti.de/termine/janine-jansen-violine-muenchner-philharmoniker-lahav-shani-leitung-695201/
LOCATION:Isarphilharmonie\, Hans-Preißinger-Straße 8\, 81379 München
END:VEVENT
END:VCALENDAR